BEGIN:VCALENDAR
VERSION:2.0
PRODID:-//kssv-boerde.de - ECPv6.15.20//NONSGML v1.0//EN
CALSCALE:GREGORIAN
METHOD:PUBLISH
X-ORIGINAL-URL:https://kssv-boerde.de
X-WR-CALDESC:Veranstaltungen für kssv-boerde.de
REFRESH-INTERVAL;VALUE=DURATION:PT1H
X-Robots-Tag:noindex
X-PUBLISHED-TTL:PT1H
BEGIN:VTIMEZONE
TZID:Europe/Berlin
BEGIN:DAYLIGHT
TZOFFSETFROM:+0100
TZOFFSETTO:+0200
TZNAME:CEST
DTSTART:20250330T010000
END:DAYLIGHT
BEGIN:STANDARD
TZOFFSETFROM:+0200
TZOFFSETTO:+0100
TZNAME:CET
DTSTART:20251026T010000
END:STANDARD
BEGIN:DAYLIGHT
TZOFFSETFROM:+0100
TZOFFSETTO:+0200
TZNAME:CEST
DTSTART:20260329T010000
END:DAYLIGHT
BEGIN:STANDARD
TZOFFSETFROM:+0200
TZOFFSETTO:+0100
TZNAME:CET
DTSTART:20261025T010000
END:STANDARD
BEGIN:DAYLIGHT
TZOFFSETFROM:+0100
TZOFFSETTO:+0200
TZNAME:CEST
DTSTART:20270328T010000
END:DAYLIGHT
BEGIN:STANDARD
TZOFFSETFROM:+0200
TZOFFSETTO:+0100
TZNAME:CET
DTSTART:20271031T010000
END:STANDARD
END:VTIMEZONE
BEGIN:VEVENT
DTSTART;TZID=Europe/Berlin:20260530T080000
DTEND;TZID=Europe/Berlin:20260531T080000
DTSTAMP:20260421T144124
CREATED:20260320T104423Z
LAST-MODIFIED:20260320T104423Z
UID:946-1780128000-1780214400@kssv-boerde.de
SUMMARY:Kreismeisterschaft Kleinkaliber-Gewehr 2026
DESCRIPTION:in Gröningen\, Anmeldungen über Kreissportleiter (wettkampf@kssv-boerde.de).Hinweis: Der Sonntag ist nur bei ausgeschöpfter Standkapazität Wettkampftag. \n\n\n\nMeldeschluss: 09.05.26 \n\n\n\nAusschreibungÜbersicht Disziplinen und Wettkampfklassen
URL:https://kssv-boerde.de/event/kreismeisterschaft-kleinkaliber-gewehr-2026/
END:VEVENT
END:VCALENDAR