BEGIN:VCALENDAR
VERSION:2.0
PRODID:-//kssv-boerde.de - ECPv6.15.20//NONSGML v1.0//EN
CALSCALE:GREGORIAN
METHOD:PUBLISH
X-ORIGINAL-URL:https://kssv-boerde.de
X-WR-CALDESC:Veranstaltungen für kssv-boerde.de
REFRESH-INTERVAL;VALUE=DURATION:PT1H
X-Robots-Tag:noindex
X-PUBLISHED-TTL:PT1H
BEGIN:VTIMEZONE
TZID:Europe/Berlin
BEGIN:DAYLIGHT
TZOFFSETFROM:+0100
TZOFFSETTO:+0200
TZNAME:CEST
DTSTART:20250330T010000
END:DAYLIGHT
BEGIN:STANDARD
TZOFFSETFROM:+0200
TZOFFSETTO:+0100
TZNAME:CET
DTSTART:20251026T010000
END:STANDARD
BEGIN:DAYLIGHT
TZOFFSETFROM:+0100
TZOFFSETTO:+0200
TZNAME:CEST
DTSTART:20260329T010000
END:DAYLIGHT
BEGIN:STANDARD
TZOFFSETFROM:+0200
TZOFFSETTO:+0100
TZNAME:CET
DTSTART:20261025T010000
END:STANDARD
BEGIN:DAYLIGHT
TZOFFSETFROM:+0100
TZOFFSETTO:+0200
TZNAME:CEST
DTSTART:20270328T010000
END:DAYLIGHT
BEGIN:STANDARD
TZOFFSETFROM:+0200
TZOFFSETTO:+0100
TZNAME:CET
DTSTART:20271031T010000
END:STANDARD
END:VTIMEZONE
BEGIN:VEVENT
DTSTART;TZID=Europe/Berlin:20260307T090000
DTEND;TZID=Europe/Berlin:20260307T140000
DTSTAMP:20260419T145008
CREATED:20260320T085132Z
LAST-MODIFIED:20260320T094743Z
UID:885-1772874000-1772892000@kssv-boerde.de
SUMMARY:3D-Winter-Bode-Pokal
DESCRIPTION:in Gröningen\, Informationen über den Gröninger SV. Einladung und Ausschreibung
URL:https://kssv-boerde.de/event/885/
END:VEVENT
BEGIN:VEVENT
DTSTART;TZID=Europe/Berlin:20260307T100000
DTEND;TZID=Europe/Berlin:20260307T130000
DTSTAMP:20260419T145008
CREATED:20260320T093309Z
LAST-MODIFIED:20260320T094805Z
UID:892-1772877600-1772888400@kssv-boerde.de
SUMMARY:Kreisschützentag 2026
DESCRIPTION:Kreisschützentag 2026 in Großalsleben\, Informationen über Thomas Kasseckert.
URL:https://kssv-boerde.de/event/kreisschuetzentag-2026/
END:VEVENT
BEGIN:VEVENT
DTSTART;TZID=Europe/Berlin:20260314T090000
DTEND;TZID=Europe/Berlin:20260314T120000
DTSTAMP:20260419T145008
CREATED:20260320T094538Z
LAST-MODIFIED:20260320T094825Z
UID:906-1773478800-1773489600@kssv-boerde.de
SUMMARY:Kreismeisterschaft Lichtgewehr und Lichtpistole 2026
DESCRIPTION:in Gröningen\, Anmeldungen über Kreissportleiter (wettkampf@kssv-boerde.de).
URL:https://kssv-boerde.de/event/kreismeisterschaft-lichtgewehr-und-lichtpistole-2026/
END:VEVENT
BEGIN:VEVENT
DTSTART;TZID=Europe/Berlin:20260321T080000
DTEND;TZID=Europe/Berlin:20260322T080000
DTSTAMP:20260419T145008
CREATED:20260320T095139Z
LAST-MODIFIED:20260324T175614Z
UID:908-1774080000-1774166400@kssv-boerde.de
SUMMARY: Kreisrunde KK-Gewehr 2026
DESCRIPTION:1.Runde n Hordorf\, Informationen und Anmeldungen über Kreisrundenleiter (wettkampf@kssv-boerde.de).Hinweis: Der Sonntag ist nur bei ausgeschöpfter Standkapazität Wettkampftag.Vorschießtermin ist der ??.03.2026. \n\n\n\nTeilnehmer… Startzeiten … Ausschreibung… Protokoll
URL:https://kssv-boerde.de/event/kreisrunde-kk-gewehr-2026/
END:VEVENT
END:VCALENDAR